Workbook

Sheet 確認画面
A1: 飯塚市介護認定審査会等 進捗確認ツール | G1: 確認できる申請期間 | H1: =DATE(LEFT(H2,4),MID(H2,5,2),RIGHT(H2,2)) -> 46210 | J1: ～ | K1: =DATE(LEFT(K2,4),MID(K2,5,2),RIGHT(K2,2)) -> 46302
H2: =MIN(基データ!C:C) -> 20260707 | K2: =MAX(基データ!C:C) -> 20261007
A3: 下記に被保険者生年月日、申請年月日(半角英数字 和暦 "S20.1.1"※1 または西暦 "1945/1/1")と申請区分※２ を入力してください。 ※1 大正「T」、昭和「S」、平成「H」、令和「R」 ※２ 新規「1」、更新「2」、変更「3」
M5: 1
A6: =A7&"★"&C9&"★"&A8 -> 19000100★★19000100 | M6: 2
A7: =TEXT(C7,"yyyymmdd") -> 19000100 | B7: 被保険者生年月日 | F7: 主治医意見書 | J7: 介護認定審査会 | M7: 3
A8: =TEXT(C8,"yyyymmdd") -> 19000100 | B8: 申請年月日 | F8: 状況 | G8: =IF(VLOOKUP($A$6,基データ!$A:$F,6,FALSE)="","未提出","提出済") -> #N/A | J8: 予定日 | K8: =IF(VLOOKUP($A$6,基データ!$A:$H,8,FALSE)="","未定",TEXT(VLOOKUP($A$6,基データ!$A:$H,8,FALSE),"0000!/00!/00")*1) -> #N/A
B9: 申請区分
B10: 新規：1、更新：2、変更：3
F11: 訪問調査
F12: 状況 | G12: =IF(VLOOKUP($A$6,基データ!$A:$G,7,FALSE)="","未実施","実施済") -> #N/A
B14: ※最新の情報が反映されるまでに数日かかる場合があります。
B15: ※結果送付日は介護認定審査会の翌営業日です。
B16: ※間違いなく申請を行ったが情報が表示されない場合は、下記担当までお問い合わせください。
B17: ※介護情報提供（開示）申請は介護認定審査会後に行っていただくようお願いいたします。
H19: 問い合わせ先
H20: 飯塚市 福祉部 介護保険課 認定係 TEL ０９４８－96－8232 FAX ０９４８－２５－６２１４

Sheet 基データ
A1: 突合用 | B1: 被保険者生年月日 | C1: 認定申請日 | D1: 申請区分 | E1: 申請区分コード | F1: 意見書入手日 | G1: 調査実施日 | H1: 認定審査会予定日
A2: =B2&"★"&E2&"★"&C2 -> 1429337★4★20260724 | B2: 1429337 | C2: 20260724 | D2: 資格喪失申請 | E2: 4 | F2: 19310301 | G2: ｺﾞﾄｳ ﾁｴｺ | H2: 後藤 智惠子
A3: =B3&"★"&E3&"★"&C3 -> 1147099★4★20260724 | B3: 1147099 | C3: 20260724 | D3: 資格喪失申請 | E3: 4 | F3: 19480502 | G3: ﾎﾝﾏ ﾀｶﾕｷ | H3: 本間 隆幸
A4: =B4&"★"&E4&"★"&C4 -> 1161351★4★20260724 | B4: 1161351 | C4: 20260724 | D4: 資格喪失申請 | E4: 4 | F4: 19510802 | G4: ｵﾊﾞﾀ ｶﾂﾐ | H4: 小畠 勝美
A5: =B5&"★"&E5&"★"&C5 -> 1218166★4★20260724 | B5: 1218166 | C5: 20260724 | D5: 資格喪失申請 | E5: 4 | F5: 19370307 | G5: ﾅｶﾞﾀ ｺｳﾉｽｹ | H5: 永田 功之輔
A6: =B6&"★"&E6&"★"&C6 -> 1280341★4★20260724 | B6: 1280341 | C6: 20260724 | D6: 資格喪失申請 | E6: 4 | F6: 19380325 | G6: ﾓﾘｶﾜ ﾄｼｺ | H6: 森川 トシ子
A7: =B7&"★"&E7&"★"&C7 -> 1352032★4★20260724 | B7: 1352032 | C7: 20260724 | D7: 資格喪失申請 | E7: 4 | F7: 19300122 | G7: ﾅｶﾞｲ ﾀﾂｵ | H7: 永井 龍雄
A8: =B8&"★"&E8&"★"&C8 -> 1429809★4★20260724 | B8: 1429809 | C8: 20260724 | D8: 資格喪失申請 | E8: 4 | F8: 19330806 | G8: ﾏｴﾀﾞ ｽｽﾞｺ | H8: 前田 鈴子
A9: =B9&"★"&E9&"★"&C9 -> 1436058★4★20260724 | B9: 1436058 | C9: 20260724 | D9: 資格喪失申請 | E9: 4 | F9: 19360120 | G9: ﾌｸﾀﾞ ｴﾂｺ | H9: 福田 悦子
A10: =B10&"★"&E10&"★"&C10 -> 1318586★4★20260724 | B10: 1318586 | C10: 20260724 | D10: 資格喪失申請 | E10: 4 | F10: 19280405 | G10: ｲﾉｳｴ ｷﾖｺ | H10: 井上 喜代子
A11: =B11&"★"&E11&"★"&C11 -> 1855492★4★20260724 | B11: 1855492 | C11: 20260724 | D11: 資格喪失申請 | E11: 4 | F11: 19430701 | G11: ﾑﾗﾔﾏ ﾄｼﾋｺ | H11: 村山 敏彦
A12: =B12&"★"&E12&"★"&C12 -> 2127270★4★20260715 | B12: 2127270 | C12: 20260715 | D12: 資格喪失申請 | E12: 4 | F12: 19490627 | G12: ｱﾗﾏｷ ｹﾝｲﾁ | H12: 荒巻 憲一
A13: =B13&"★"&E13&"★"&C13 -> 400024473★4★20260715 | B13: 400024473 | C13: 20260715 | D13: 資格喪失申請 | E13: 4 | F13: 19361212 | G13: ｸﾊﾞ ﾃﾙｺ | H13: 久＿ 照子
... A20: =B20&"★"&E20&"★"&C20 -> 500902361★4★20260715 | B20: 500902361 | C20: 20260715 | D20: 資格喪失申請 | E20: 4 | F20: 19340528 | G20: ｲﾉｳｴ ｹｲｺ | H20: 井上 慶子
A21: =B21&"★"&E21&"★"&C21 -> 1073320★2★20260707 | B21: 1073320 | C21: 20260707 | D21: 更新申請 | E21: 2 | F21: 19240102 | G21: ﾐﾑﾗ ﾁｴｺ | H21: 三村 千枝子 | I21: 20260717 | J21: 20260803 | K21: 20260806
A22: =B22&"★"&E22&"★"&C22 -> 1101072★2★20260707 | B22: 1101072 | C22: 20260707 | D22: 更新申請 | E22: 2 | F22: 19330815 | G22: ﾌｼﾞﾀ ｽﾏｺ | H22: 藤田 スマ子 | I22: 20260708 | J22: 20260722 | K22: 20260723
A23: =B23&"★"&E23&"★"&C23 -> 1171283★1★20260707 | B23: 1171283 | C23: 20260707 | D23: 更新申請 | E23: 1 | F23: 19490619 | G23: ﾅﾜ ｼｽﾞｺ | H23: 奈輪 しず子 | I23: 20260813 | J23: 20260731 | K23: 20260818
A24: =B24&"★"&E24&"★"&C24 -> 1223046★1★20260707 | B24: 1223046 | C24: 20260707 | D24: 新規申請 | E24: 1 | F24: 19481021 | G24: ﾕｳﾁｮｳ ﾉﾌﾞﾖｼ | H24: 遊長 信良 | I24: 20260727 | J24: 20260714 | K24: 20260730
A25: =B25&"★"&E25&"★"&C25 -> 1482394★3★20260707 | B25: 1482394 | C25: 20260707 | D25: 変更申請 | E25: 3 | F25: 19330617 | G25: ｶﾜｻｷ ｲﾂｷﾞ | H25: 川崎 イツギ | I25: 20260714 | J25: 20260723 | K25: 20260730
A26: =B26&"★"&E26&"★"&C26 -> 1529960★1★20260707 | B26: 1529960 | C26: 20260707 | D26: 新規申請 | E26: 1 | F26: 19490729 | G26: ﾄﾐｶ ﾀｴｺ | H26: 冨賀 多惠子 | J26: 20260715
A27: =B27&"★"&E27&"★"&C27 -> 1793845★4★20260715 | B27: 1793845 | C27: 20260715 | D27: 資格喪失申請 | E27: 4 | F27: 19471120 | G27: ﾔﾏｼﾀ ｴｲｼﾞ | H27: 山下 榮次
A28: =B28&"★"&E28&"★"&C28 -> 1806106★1★20260707 | B28: 1806106 | C28: 20260707 | D28: 更新申請 | E28: 1 | F28: 19350105 | G28: ﾔﾏｼﾀ ﾖｳｺ | H28: 山下 陽子 | I28: 20260708 | J28: 20260804 | K28: 20260806
A29: =B29&"★"&E29&"★"&C29 -> 1839985★4★20260715 | B29: 1839985 | C29: 20260715 | D29: 資格喪失申請 | E29: 4 | F29: 19400831 | G29: ﾓﾝｼﾞ ﾏｻｵ | H29: 門司 正男
A30: =B30&"★"&E30&"★"&C30 -> 2334291★1★20260707 | B30: 2334291 | C30: 20260707 | D30: 新規申請 | E30: 1 | F30: 19630222 | G30: ﾂﾂﾐ ﾓﾄﾏｻ | H30: 堤 基昌 | I30: 20260714 | J30: 20260805 | K30: 20260812
A31: =B31&"★"&E31&"★"&C31 -> 2605163★1★20260707 | B31: 2605163 | C31: 20260707 | D31: 新規申請 | E31: 1 | F31: 19400902 | G31: ﾔｽﾅｶﾞ ﾖｼﾀﾀﾞ | H31: 安永 義忠 | I31: 20260724 | J31: 20260804 | K31: 20260806
A32: =B32&"★"&E32&"★"&C32 -> 100103330★1★20260707 | B32: 100103330 | C32: 20260707 | D32: 新規申請 | E32: 1 | F32: 19450530 | G32: ｻｻｷ ﾋﾃﾞｵ | H32: 佐々木 日出男 | I32: 20260722 | J32: 20260727 | K32: 20260730
A33: =B33&"★"&E33&"★"&C33 -> 100107654★2★20260707 | B33: 100107654 | C33: 20260707 | D33: 更新申請 | E33: 2 | F33: 19320220 | G33: ﾊｼﾂﾞﾒ ｽﾐｺ | H33: 橋爪 スミ子 | I33: 20260708 | J33: 20260729 | K33: 20260806
A34: =B34&"★"&E34&"★"&C34 -> 100248230★2★20260707 | B34: 100248230 | C34: 20260707 | D34: 更新申請 | E34: 2 | F34: 19370605 | G34: ｵｵｸﾎﾞ ﾚｲｺ | H34: 大久保 麗子 | I34: 20260715 | J34: 20260803 | K34: 20260812
A35: =B35&"★"&E35&"★"&C35 -> 100276464★1★20260707 | B35: 100276464 | C35: 20260707 | D35: 新規申請 | E35: 1 | F35: 19420216 | G35: ﾋﾗﾔﾏ ﾏｻｵ | H35: 平山 正夫 | I35: 20260717 | J35: 20260721 | K35: 20260728
A36: =B36&"★"&E36&"★"&C36 -> 200151812★2★20260707 | B36: 200151812 | C36: 20260707 | D36: 更新申請 | E36: 2 | F36: 19470112 | G36: ﾖｼﾀﾞ ﾕﾐｺ | H36: 吉田 由美子 | I36: 20260807 | J36: 20260727 | K36: 20260812
A37: =B37&"★"&E37&"★"&C37 -> 300019720★3★20260707 | B37: 300019720 | C37: 20260707 | D37: 変更申請 | E37: 3 | F37: 19450410 | G37: ﾌｼﾞﾀ ﾉﾌﾞｺ | H37: 藤田 信子 | I37: 20260807 | J37: 20260715 | K37: 20260812
A38: =B38&"★"&E38&"★"&C38 -> 300046663★2★20260707 | B38: 300046663 | C38: 20260707 | D38: 更新申請 | E38: 2 | F38: 19350815 | G38: ﾌｼﾞﾓﾄ ﾁｽﾞｺ | H38: 藤本 千鶴子 | I38: 20260717 | J38: 20260803 | K38: 20260806
A39: =B39&"★"&E39&"★"&C39 -> 300050040★1★20260707 | B39: 300050040 | C39: 20260707 | D39: 新規申請 | E39: 1 | F39: 19590823 | G39: ﾀﾅｶ ﾌﾐｵ | H39: 田中 文雄 | I39: 20260722 | J39: 20260708 | K39: 20260723
A40: =B40&"★"&E40&"★"&C40 -> 500070552★1★20260707 | B40: 500070552 | C40: 20260707 | D40: 新規申請 | E40: 1 | F40: 19410523 | G40: ｵｵﾂｶ ｲｻｵ | H40: 大塚 勲 | I40: 20260721 | J40: 20260728 | K40: 20260730
A41: =B41&"★"&E41&"★"&C41 -> 500353040★4★20260715 | B41: 500353040 | C41: 20260715 | D41: 資格喪失申請 | E41: 4 | F41: 19500505 | G41: ﾂﾎﾞﾀ ｿﾉｺ | H41: 坪田 園子
A42: =B42&"★"&E42&"★"&C42 -> 500445998★1★20260707 | B42: 500445998 | C42: 20260707 | D42: 新規申請 | E42: 1 | F42: 19381108 | G42: ｱｼﾀﾞ ｻﾀﾞｺ | H42: 芦田 さだ子 | I42: 20260714 | J42: 20260717 | K42: 20260723
A43: =B43&"★"&E43&"★"&C43 -> 1031244★2★20260708 | B43: 1031244 | C43: 20260708 | D43: 更新申請 | E43: 2 | F43: 19431028 | G43: ﾜﾀﾙ ﾋﾃﾞｺ | H43: 渡 英子 | I43: 20260813 | J43: 20260724 | K43: 20260818
A44: =B44&"★"&E44&"★"&C44 -> 1080008★1★20260708 | B44: 1080008 | C44: 20260708 | D44: 新規申請 | E44: 1 | F44: 19420120 | G44: ﾏﾂｻﾞｷ ﾔｽﾉﾘ | H44: 松崎 安典 | I44: 20260722 | J44: 20260723 | K44: 20260730
A45: =B45&"★"&E45&"★"&C45 -> 1083473★1★20260708 | B45: 1083473 | C45: 20260708 | D45: 新規申請 | E45: 1 | F45: 19401210 | G45: ｼﾊﾞﾀ ﾖｼﾛｳ | H45: 柴田 佳郎 | I45: 20260728 | J45: 20260721 | K45: 20260730
A46: =B46&"★"&E46&"★"&C46 -> 1309099★1★20260708 | B46: 1309099 | C46: 20260708 | D46: 更新申請 | E46: 1 | F46: 19360408 | G46: ｸﾘﾀ ﾋﾛﾐ | H46: 栗田 仁美 | I46: 20260728 | J46: 20260805 | K46: 20260818
A47: =B47&"★"&E47&"★"&C47 -> 1318641★1★20260708 | B47: 1318641 | C47: 20260708 | D47: 新規申請 | E47: 1 | F47: 19360820 | G47: ｲｲｵ ｶｽﾞｴ | H47: 飯尾 一枝 | I47: 20260730 | J47: 20260716 | K47: 20260804
A48: =B48&"★"&E48&"★"&C48 -> 1388886★1★20260708 | B48: 1388886 | C48: 20260708 | D48: 更新申請 | E48: 1 | F48: 19481219 | G48: ﾏｷｸﾞｻ ﾂｷﾞｵ | H48: 牧草 次男 | I48: 20260810 | J48: 20260721 | K48: 20260818
A49: =B49&"★"&E49&"★"&C49 -> 1407384★4★20260715 | B49: 1407384 | C49: 20260715 | D49: 資格喪失申請 | E49: 4 | F49: 19571227 | G49: ﾔｽﾅｶﾞ ｶﾂﾄｼ | H49: 安永 勝利
A50: =B50&"★"&E50&"★"&C50 -> 1451766★2★20260708 | B50: 1451766 | C50: 20260708 | D50: 更新申請 | E50: 2 | F50: 19331015 | G50: ﾉｸﾞﾁ ｽﾐ | H50: 野口 スミ | I50: 20260710 | J50: 20260729 | K50: 20260806
A51: =B51&"★"&E51&"★"&C51 -> 1561502★2★20260708 | B51: 1561502 | C51: 20260708 | D51: 更新申請 | E51: 2 | F51: 19440323 | G51: ｼﾓﾑﾗ ﾔｽｺ | H51: 下村 泰子 | I51: 20260710 | J51: 20260714 | K51: 20260721
A52: =B52&"★"&E52&"★"&C52 -> 1645293★1★20260708 | B52: 1645293 | C52: 20260708 | D52: 新規申請 | E52: 1 | F52: 19510103 | G52: ｼﾝﾔｼｷ ﾋｻｼ | H52: 新屋敷 壽 | I52: 20260714 | J52: 20260713 | K52: 20260714
A53: =B53&"★"&E53&"★"&C53 -> 1726595★4★20260715 | B53: 1726595 | C53: 20260715 | D53: 資格喪失申請 | E53: 4 | F53: 19270813 | G53: ﾊﾗﾀﾞ ｶｽﾞﾏｻ | H53: 原田 和正
A54: =B54&"★"&E54&"★"&C54 -> 1781375★1★20260708 | B54: 1781375 | C54: 20260708 | D54: 新規申請 | E54: 1 | F54: 19700528 | G54: ｼﾝﾄﾞｳ ｶｽﾞﾖｼ | H54: 進藤 和芳 | I54: 20260714 | J54: 20260721 | K54: 20260728
A55: =B55&"★"&E55&"★"&C55 -> 1916432★2★20260708 | B55: 1916432 | C55: 20260708 | D55: 更新申請 | E55: 2 | F55: 19450301 | G55: ﾌｸﾀﾞ ｼｮｳｼﾞ | H55: 福田 昭二 | I55: 20260710 | J55: 20260812 | K55: 20260818
A56: =B56&"★"&E56&"★"&C56 -> 2229536★1★20260708 | B56: 2229536 | C56: 20260708 | D56: 新規申請 | E56: 1 | F56: 19461116 | G56: ﾄﾐﾖｼ ﾉﾌﾞｺ | H56: 富吉 信子 | I56: 20260804 | J56: 20260810 | K56: 20260818
A57: =B57&"★"&E57&"★"&C57 -> 100324124★2★20260708 | B57: 100324124 | C57: 20260708 | D57: 更新申請 | E57: 2 | F57: 19290301 | G57: ﾂﾔﾏ ﾀｴｺ | H57: 津山 タヱコ | I57: 20260813 | J57: 20260724 | K57: 20260818
A58: =B58&"★"&E58&"★"&C58 -> 300061808★4★20260715 | B58: 300061808 | C58: 20260715 | D58: 資格喪失申請 | E58: 4 | F58: 19370302 | G58: ｼﾉｻﾞｷ ｾｲｲﾁ | H58: 篠﨑 誠一
A59: =B59&"★"&E59&"★"&C59 -> 500338938★1★20260708 | B59: 500338938 | C59: 20260708 | D59: 更新申請 | E59: 1 | F59: 19350425 | G59: ｵｵﾂｶ ﾐﾖｺ | H59: 大塚 美代子 | I59: 20260710 | J59: 20260723 | K59: 20260806
A60: =B60&"★"&E60&"★"&C60 -> 500920653★2★20260708 | B60: 500920653 | C60: 20260708 | D60: 更新申請 | E60: 2 | F60: 19420615 | G60: ﾌﾀﾂｷﾞ ﾌﾐｵ | H60: 二木 文雄 | I60: 20260710 | J60: 20260729 | K60: 20260812
A61: =B61&"★"&E61&"★"&C61 -> 1050907★2★20260709 | B61: 1050907 | C61: 20260709 | D61: 更新申請 | E61: 2 | F61: 19390310 | G61: ﾆｼﾀﾞ ｱｹﾐ | H61: 西田 明美 | I61: 20260710 | J61: 20260728 | K61: 20260812
A62: =B62&"★"&E62&"★"&C62 -> 1408691★1★20260709 | B62: 1408691 | C62: 20260709 | D62: 新規申請 | E62: 1 | F62: 19330801 | G62: ｿｳﾜ ﾐｷｺ | H62: 宗和 ミキ子 | I62: 20260723 | J62: 20260716 | K62: 20260728
A63: =B63&"★"&E63&"★"&C63 -> 1433466★2★20260709 | B63: 1433466 | C63: 20260709 | D63: 更新申請 | E63: 2 | F63: 19390108 | G63: ｼﾉﾊﾗ ｶｽﾞﾔ | H63: 篠原 和也 | I63: 20260717 | J63: 20260803 | K63: 20260812
A64: =B64&"★"&E64&"★"&C64 -> 1445626★1★20260709 | B64: 1445626 | C64: 20260709 | D64: 新規申請 | E64: 1 | F64: 19480425 | G64: ﾄﾄｶﾞﾜ ｼｽﾞｵ | H64: 都外川 静生 | I64: 20260730 | J64: 20260721 | K64: 20260806
A65: =B65&"★"&E65&"★"&C65 -> 1528467★1★20260709 | B65: 1528467 | C65: 20260709 | D65: 新規申請 | E65: 1 | F65: 19570228 | G65: ﾔﾏﾓﾄ ﾀｹﾏｻ | H65: 山本 剛正 | I65: 20260730 | J65: 20260727 | K65: 20260804
A66: =B66&"★"&E66&"★"&C66 -> 1535358★2★20260709 | B66: 1535358 | C66: 20260709 | D66: 更新申請 | E66: 2 | F66: 19371017 | G66: ﾐﾀﾆ ｷｸﾐ | H66: 三谷 菊美 | I66: 20260713 | J66: 20260728 | K66: 20260806
A67: =B67&"★"&E67&"★"&C67 -> 1635182★4★20260707 | B67: 1635182 | C67: 20260707 | D67: 転入申請 | E67: 4 | F67: 19660422 | G67: ﾄﾞｳｿﾞﾉ ｷﾖﾋﾛ | H67: 堂園 清弘
A68: =B68&"★"&E68&"★"&C68 -> 1661981★4★20260715 | B68: 1661981 | C68: 20260715 | D68: 資格喪失申請 | E68: 4 | F68: 19370720 | G68: ｳｴﾀﾞ ﾀｹｼ | H68: 上田 毅
A69: =B69&"★"&E69&"★"&C69 -> 1677454★1★20260709 | B69: 1677454 | C69: 20260709 | D69: 新規申請 | E69: 1 | F69: 19350915 | G69: ﾖﾂﾓﾄ ｼｭｳﾛｳ | H69: 四元 修朗 | I69: 20260715 | J69: 20260721 | K69: 20260728
A70: =B70&"★"&E70&"★"&C70 -> 2166372★2★20260709 | B70: 2166372 | C70: 20260709 | D70: 更新申請 | E70: 2 | F70: 19360601 | G70: ｸﾎﾞ ｹｲｺ | H70: 久保 桂子 | I70: 20260723 | J70: 20260722 | K70: 20260804
A71: =B71&"★"&E71&"★"&C71 -> 2201402★2★20260709 | B71: 2201402 | C71: 20260709 | D71: 更新申請 | E71: 2 | F71: 19600820 | G71: ﾜﾀﾞ ﾕｶﾘ | H71: 和田 ゆかり | I71: 20260710 | J71: 20260805 | K71: 20260812
A72: =B72&"★"&E72&"★"&C72 -> 2212331★2★20260709 | B72: 2212331 | C72: 20260709 | D72: 更新申請 | E72: 2 | F72: 19370103 | G72: ﾐｳﾗ ﾐﾂｺ | H72: 三浦 美鶴子 | I72: 20260710 | J72: 20260723 | K72: 20260728
A73: =B73&"★"&E73&"★"&C73 -> 2216809★3★20260709 | B73: 2216809 | C73: 20260709 | D73: 変更申請 | E73: 3 | F73: 19401127 | G73: ﾆｼ ﾐｴｺ | H73: 西 三惠子 | I73: 20260728 | J73: 20260724 | K73: 20260728
A74: =B74&"★"&E74&"★"&C74 -> 2283387★1★20260709 | B74: 2283387 | C74: 20260709 | D74: 新規申請 | E74: 1 | F74: 19430516 | G74: ｶﾜﾉ ﾄﾅﾐ | H74: 川野 トナミ | I74: 20260731 | J74: 20260810 | K74: 20260812
A75: =B75&"★"&E75&"★"&C75 -> 2446847★4★20260714 | B75: 2446847 | C75: 20260714 | D75: 資格喪失申請 | E75: 4 | F75: 19580824 | G75: ｼﾝﾉ ｹｲｺ | H75: 新野 恵子
A76: =B76&"★"&E76&"★"&C76 -> 2449170★1★20260709 | B76: 2449170 | C76: 20260709 | D76: 新規申請 | E76: 1 | F76: 19490716 | G76: ﾊﾀｹﾔﾏ ﾂﾈｺ | H76: 畠山 常子 | I76: 20260731 | J76: 20260715 | K76: 20260806
A77: =B77&"★"&E77&"★"&C77 -> 2470586★2★20260709 | B77: 2470586 | C77: 20260709 | D77: 更新申請 | E77: 2 | F77: 19290207 | G77: ｺﾆｼ ﾐﾂｺ | H77: 小西 ミツ子 | I77: 20260710 | J77: 20260723 | K77: 20260728
A78: =B78&"★"&E78&"★"&C78 -> 2550474★1★20260709 | B78: 2550474 | C78: 20260709 | D78: 新規申請 | E78: 1 | F78: 19451003 | G78: ﾀｹﾀﾞ ｻﾁｺ | H78: 武田 幸子 | I78: 20260721 | J78: 20260917 | K78: 20260924
A79: =B79&"★"&E79&"★"&C79 -> 100042692★1★20260709 | B79: 100042692 | C79: 20260709 | D79: 新規申請 | E79: 1 | F79: 19460818 | G79: ﾌｸｼﾏ ｶｽﾞｺ | H79: 福島 和子 | I79: 20260730 | J79: 20260727 | K79: 20260804
A80: =B80&"★"&E80&"★"&C80 -> 100313572★1★20260709 | B80: 100313572 | C80: 20260709 | D80: 新規申請 | E80: 1 | F80: 19371031 | G80: ｲﾏｲ ﾄｼｱｷ | H80: 今井 俊昭 | I80: 20260721 | J80: 20260723 | K80: 20260728
A81: =B81&"★"&E81&"★"&C81 -> 100326984★1★20260709 | B81: 100326984 | C81: 20260709 | D81: 新規申請 | E81: 1 | F81: 19500424 | G81: ﾐﾔﾉ ﾕｳｼﾞ | H81: 宮野 優司 | I81: 20260819 | J81: 20260723 | K81: 20260825
A82: =B82&"★"&E82&"★"&C82 -> 300066753★2★20260709 | B82: 300066753 | C82: 20260709 | D82: 更新申請 | E82: 2 | F82: 19450208 | G82: ﾓﾄｷ ﾋﾛｺ | H82: 元木 ヒロ子 | I82: 20260710 | J82: 20260723 | K82: 20260806
A83: =B83&"★"&E83&"★"&C83 -> 400035270★2★20260709 | B83: 400035270 | C83: 20260709 | D83: 更新申請 | E83: 2 | F83: 19570224 | G83: ﾜﾀﾞ ｶｽﾞｴ | H83: 和田 和江 | I83: 20260710 | J83: 20260723 | K83: 20260728
A84: =B84&"★"&E84&"★"&C84 -> 500787627★2★20260709 | B84: 500787627 | C84: 20260709 | D84: 更新申請 | E84: 2 | F84: 19351001 | G84: ｱﾝﾄﾞｳ ﾀｶｺ | H84: 安藤 孝子 | I84: 20260710 | J84: 20260713 | K84: 20260714
A85: =B85&"★"&E85&"★"&C85 -> 1181424★1★20260710 | B85: 1181424 | C85: 20260710 | D85: 新規申請 | E85: 1 | F85: 19410122 | G85: ｸｶﾞ ﾘｮｳｽｹ | H85: 久家 亮介 | I85: 20260716 | J85: 20260728 | K85: 20260804
A86: =B86&"★"&E86&"★"&C86 -> 1356321★1★20260710 | B86: 1356321 | C86: 20260710 | D86: 新規申請 | E86: 1 | F86: 19400522 | G86: ｼｹﾞﾏﾂ ﾉﾌﾞﾖｼ | H86: 重松 信義 | I86: 20260807 | J86: 20260729 | K86: 20260812
A87: =B87&"★"&E87&"★"&C87 -> 1666444★1★20260710 | B87: 1666444 | C87: 20260710 | D87: 新規申請 | E87: 1 | F87: 19510911 | G87: ﾐｽﾞﾀﾆ ｼｭｳｲﾁ | H87: 水谷 修一 | I87: 20260722 | J87: 20260731 | K87: 20260804
... A89: =B89&"★"&E89&"★"&C89 -> 2363763★2★20260710 | B89: 2363763 | C89: 20260710 | D89: 更新申請 | E89: 2 | F89: 19420520 | G89: ﾊﾗﾀﾞ ﾄﾓﾖ | H89: 原田 トモヨ | I89: 20260715 | J89: 20260722 | K89: 20260728
A90: =B90&"★"&E90&"★"&C90 -> 2620901★4★20260715 | B90: 2620901 | C90: 20260715 | D90: 資格喪失申請 | E90: 4 | F90: 19450513 | G90: ﾂｼﾞﾓﾄ ｻﾖｺ | H90: 辻本 サヨ子
A91: =B91&"★"&E91&"★"&C91 -> 200040794★4★20260715 | B91: 200040794 | C91: 20260715 | D91: 資格喪失申請 | E91: 4 | F91: 19340222 | G91: ﾊﾗ ﾄﾐｺ | H91: 原 富子
A92: =B92&"★"&E92&"★"&C92 -> 200100878★1★20260710 | B92: 200100878 | C92: 20260710 | D92: 新規申請 | E92: 1 | F92: 19560826 | G92: ﾅｶﾞﾉ ﾋﾃﾞｵ | H92: 長野 秀雄 | I92: 20260717 | J92: 20260715 | K92: 20260723
A93: =B93&"★"&E93&"★"&C93 -> 200253399★1★20260710 | B93: 200253399 | C93: 20260710 | D93: 新規申請 | E93: 1 | F93: 19480830 | G93: ｻｲﾄｳ ｾﾂﾖ | H93: 齊藤 節代 | I93: 20260715 | J93: 20260727 | K93: 20260728
A94: =B94&"★"&E94&"★"&C94 -> 300014249★1★20260710 | B94: 300014249 | C94: 20260710 | D94: 新規申請 | E94: 1 | F94: 19471029 | G94: ｲﾉｳｴ ﾚｲｺ | H94: 井上 礼子 | I94: 20260722 | J94: 20260806 | K94: 20260812
A95: =B95&"★"&E95&"★"&C95 -> 400039500★4★20260715 | B95: 400039500 | C95: 20260715 | D95: 資格喪失申請 | E95: 4 | F95: 19340615 | G95: ｳｴﾉ ｼｹﾞﾙ | H95: 上野 茂
A96: =B96&"★"&E96&"★"&C96 -> 500114398★4★20260715 | B96: 500114398 | C96: 20260715 | D96: 資格喪失申請 | E96: 4 | F96: 19271128 | G96: ﾐｳﾗ ｽﾐｺ | H96: 三浦 スミ子
A97: =B97&"★"&E97&"★"&C97 -> 500586656★4★20260715 | B97: 500586656 | C97: 20260715 | D97: 資格喪失申請 | E97: 4 | F97: 19300729 | G97: ﾊﾔｼﾀﾞ ｼﾞｭﾝｲﾁ | H97: 林田 淳一
A98: =B98&"★"&E98&"★"&C98 -> 500955058★4★20260709 | B98: 500955058 | C98: 20260709 | D98: 転入申請 | E98: 4 | F98: 19470514 | G98: ﾏﾝﾀﾞ ﾐﾂﾕｷ | H98: 萬田 光行
A99: =B99&"★"&E99&"★"&C99 -> 500955074★4★20260709 | B99: 500955074 | C99: 20260709 | D99: 転入申請 | E99: 4 | F99: 19520621 | G99: ﾏﾝﾀﾞ ﾄｼﾐﾂ | H99: 萬田 敏光
A100: =B100&"★"&E100&"★"&C100 -> 1137492★1★20260713 | B100: 1137492 | C100: 20260713 | D100: 新規申請 | E100: 1 | F100: 19340115 | G100: ﾅｶｶﾞﾐ ｼﾝﾔ | H100: 仲上 信也 | I100: 20260724 | J100: 20260729 | K100: 20260806
A101: =B101&"★"&E101&"★"&C101 -> 1221299★1★20260713 | B101: 1221299 | C101: 20260713 | D101: 新規申請 | E101: 1 | F101: 19440222 | G101: ﾏｽﾀﾞ ｶﾂｺ | H101: 升田 勝子 | I101: 20260731 | J101: 20260804 | K101: 20260806
A102: =B102&"★"&E102&"★"&C102 -> 1325477★4★20260715 | B102: 1325477 | C102: 20260715 | D102: 資格喪失申請 | E102: 4 | F102: 19360612 | G102: ｶﾜﾉ ﾋﾛｺ | H102: 河野 ひろ子
A103: =B103&"★"&E103&"★"&C103 -> 1482319★3★20260713 | B103: 1482319 | C103: 20260713 | D103: 変更申請 | E103: 3 | F103: 19260421 | G103: ｶﾜｻｷ ｽｽﾑ | H103: 川﨑 進 | I103: 20260731 | J103: 20260723 | K103: 20260806
A104: =B104&"★"&E104&"★"&C104 -> 1576798★2★20260713 | B104: 1576798 | C104: 20260713 | D104: 更新申請 | E104: 2 | F104: 19500729 | G104: ﾅｶﾞｵ ｷﾖﾐﾂ | H104: 長尾 清光 | I104: 20260723 | J104: 20260730 | K104: 20260812
A105: =B105&"★"&E105&"★"&C105 -> 1678671★4★20260724 | B105: 1678671 | C105: 20260724 | D105: 資格喪失申請 | E105: 4 | F105: 19410109 | G105: ｵｵｸﾎﾞ ﾋﾃﾞｲﾁ | H105: 大久保 秀一
A106: =B106&"★"&E106&"★"&C106 -> 1700740★1★20260713 | B106: 1700740 | C106: 20260713 | D106: 変更申請 | E106: 1 | F106: 19310107 | G106: ﾀﾅｶ ﾏｻﾐﾂ | H106: 田中 正光 | I106: 20260715 | J106: 20260724 | K106: 20260730
A107: =B107&"★"&E107&"★"&C107 -> 1780166★2★20260713 | B107: 1780166 | C107: 20260713 | D107: 更新申請 | E107: 2 | F107: 19680202 | G107: ｸｶﾞ ｹｲｺ | H107: 久我 恵子 | I107: 20260723 | J107: 20260729 | K107: 20260812
...
