Workbook

Sheet 確認画面
A1: 飯塚市介護認定審査会等 進捗確認ツール | G1: 確認できる申請期間 | H1: =DATE(LEFT(H2,4),MID(H2,5,2),RIGHT(H2,2)) -> 46210 | J1: ～ | K1: =DATE(LEFT(K2,4),MID(K2,5,2),RIGHT(K2,2)) -> 46302
H2: =MIN(基データ!C:C) -> 20260707 | K2: =MAX(基データ!C:C) -> 20261007
A3: 下記に被保険者生年月日、申請年月日(半角英数字 和暦 "S20.1.1"※1 または西暦 "1945/1/1")と申請区分※２ を入力してください。 ※1 大正「T」、昭和「S」、平成「H」、令和「R」 ※２ 新規「1」、更新「2」、変更「3」
M5: 1
A6: =A7&"★"&C9&"★"&A8 -> 19000100★★19000100 | M6: 2
A7: =TEXT(C7,"yyyymmdd") -> 19000100 | B7: 被保険者生年月日 | F7: 主治医意見書 | J7: 介護認定審査会 | M7: 3
A8: =TEXT(C8,"yyyymmdd") -> 19000100 | B8: 申請年月日 | F8: 状況 | G8: =IF(VLOOKUP($A$6,基データ!$A:$F,6,FALSE)="","未提出","提出済") -> #N/A | J8: 予定日 | K8: =IF(VLOOKUP($A$6,基データ!$A:$H,8,FALSE)="","未定",TEXT(VLOOKUP($A$6,基データ!$A:$H,8,FALSE),"0000!/00!/00")*1) -> #N/A
B9: 申請区分
B10: 新規：1、更新：2、変更：3
F11: 訪問調査
F12: 状況 | G12: =IF(VLOOKUP($A$6,基データ!$A:$G,7,FALSE)="","未実施","実施済") -> #N/A
B14: ※最新の情報が反映されるまでに数日かかる場合があります。
B15: ※結果送付日は介護認定審査会の翌営業日です。
B16: ※間違いなく申請を行ったが情報が表示されない場合は、下記担当までお問い合わせください。
B17: ※介護情報提供（開示）申請は介護認定審査会後に行っていただくようお願いいたします。
H19: 問い合わせ先
H20: 飯塚市 福祉部 介護保険課 認定係 TEL ０９４８－96－8232 FAX ０９４８－２５－６２１４

Sheet 基データ
A1: 突合用 | B1: 被保険者生年月日 | C1: 認定申請日 | D1: 申請区分 | E1: 申請区分コード | F1: 意見書入手日 | G1: 調査実施日 | H1: 認定審査会予定日
A2: =B2&"★"&E2&"★"&C2 -> 1429337★4★20260724 | B2: 1429337 | C2: 20260724 | D2: 資格喪失申請 | E2: 4 | F2: 19310301 | G2: ｺﾞﾄｳ ﾁｴｺ | H2: 後藤 智惠子
A3: =B3&"★"&E3&"★"&C3 -> 1147099★4★20260724 | B3: 1147099 | C3: 20260724 | D3: 資格喪失申請 | E3: 4 | F3: 19480502 | G3: ﾎﾝﾏ ﾀｶﾕｷ | H3: 本間 隆幸
A4: =B4&"★"&E4&"★"&C4 -> 1161351★4★20260724 | B4: 1161351 | C4: 20260724 | D4: 資格喪失申請 | E4: 4 | F4: 19510802 | G4: ｵﾊﾞﾀ ｶﾂﾐ | H4: 小畠 勝美
A5: =B5&"★"&E5&"★"&C5 -> 1218166★4★20260724 | B5: 1218166 | C5: 20260724 | D5: 資格喪失申請 | E5: 4 | F5: 19370307 | G5: ﾅｶﾞﾀ ｺｳﾉｽｹ | H5: 永田 功之輔
A6: =B6&"★"&E6&"★"&C6 -> 1280341★4★20260724 | B6: 1280341 | C6: 20260724 | D6: 資格喪失申請 | E6: 4 | F6: 19380325 | G6: ﾓﾘｶﾜ ﾄｼｺ | H6: 森川 トシ子
A7: =B7&"★"&E7&"★"&C7 -> 1352032★4★20260724 | B7: 1352032 | C7: 20260724 | D7: 資格喪失申請 | E7: 4 | F7: 19300122 | G7: ﾅｶﾞｲ ﾀﾂｵ | H7: 永井 龍雄
A8: =B8&"★"&E8&"★"&C8 -> 1429809★4★20260724 | B8: 1429809 | C8: 20260724 | D8: 資格喪失申請 | E8: 4 | F8: 19330806 | G8: ﾏｴﾀﾞ ｽｽﾞｺ | H8: 前田 鈴子
A9: =B9&"★"&E9&"★"&C9 -> 1436058★4★20260724 | B9: 1436058 | C9: 20260724 | D9: 資格喪失申請 | E9: 4 | F9: 19360120 | G9: ﾌｸﾀﾞ ｴﾂｺ | H9: 福田 悦子
A10: =B10&"★"&E10&"★"&C10 -> 1318586★4★20260724 | B10: 1318586 | C10: 20260724 | D10: 資格喪失申請 | E10: 4 | F10: 19280405 | G10: ｲﾉｳｴ ｷﾖｺ | H10: 井上 喜代子
A11: =B11&"★"&E11&"★"&C11 -> 1855492★4★20260724 | B11: 1855492 | C11: 20260724 | D11: 資格喪失申請 | E11: 4 | F11: 19430701 | G11: ﾑﾗﾔﾏ ﾄｼﾋｺ | H11: 村山 敏彦
A12: =B12&"★"&E12&"★"&C12 -> 2127270★4★20260715 | B12: 2127270 | C12: 20260715 | D12: 資格喪失申請 | E12: 4 | F12: 19490627 | G12: ｱﾗﾏｷ ｹﾝｲﾁ | H12: 荒巻 憲一
A13: =B13&"★"&E13&"★"&C13 -> 400024473★4★20260715 | B13: 400024473 | C13: 20260715 | D13: 資格喪失申請 | E13: 4 | F13: 19361212 | G13: ｸﾊﾞ ﾃﾙｺ | H13: 久＿ 照子
... A20: =B20&"★"&E20&"★"&C20 -> 500902361★4★20260715 | B20: 500902361 | C20: 20260715 | D20: 資格喪失申請 | E20: 4 | F20: 19340528 | G20: ｲﾉｳｴ ｹｲｺ | H20: 井上 慶子
A21: =B21&"★"&E21&"★"&C21 -> 1073320★2★20260707 | B21: 1073320 | C21: 20260707 | D21: 更新申請 | E21: 2 | F21: 19240102 | G21: ﾐﾑﾗ ﾁｴｺ | H21: 三村 千枝子 | I21: 20260717 | J21: 20260803 | K21: 20260806
A22: =B22&"★"&E22&"★"&C22 -> 1101072★2★20260707 | B22: 1101072 | C22: 20260707 | D22: 更新申請 | E22: 2 | F22: 19330815 | G22: ﾌｼﾞﾀ ｽﾏｺ | H22: 藤田 スマ子 | I22: 20260708 | J22: 20260722 | K22: 20260723
A23: =B23&"★"&E23&"★"&C23 -> 1171283★1★20260707 | B23: 1171283 | C23: 20260707 | D23: 更新申請 | E23: 1 | F23: 19490619 | G23: ﾅﾜ ｼｽﾞｺ | H23: 奈輪 しず子 | I23: 20260813 | J23: 20260731 | K23: 20260818
A24: =B24&"★"&E24&"★"&C24 -> 1223046★1★20260707 | B24: 1223046 | C24: 20260707 | D24: 新規申請 | E24: 1 | F24: 19481021 | G24: ﾕｳﾁｮｳ ﾉﾌﾞﾖｼ | H24: 遊長 信良 | I24: 20260727 | J24: 20260714 | K24: 20260730
A25: =B25&"★"&E25&"★"&C25 -> 1482394★3★20260707 | B25: 1482394 | C25: 20260707 | D25: 変更申請 | E25: 3 | F25: 19330617 | G25: ｶﾜｻｷ ｲﾂｷﾞ | H25: 川崎 イツギ | I25: 20260714 | J25: 20260723 | K25: 20260730
A26: =B26&"★"&E26&"★"&C26 -> 1529960★1★20260707 | B26: 1529960 | C26: 20260707 | D26: 新規申請 | E26: 1 | F26: 19490729 | G26: ﾄﾐｶ ﾀｴｺ | H26: 冨賀 多惠子 | J26: 20260715
A27: =B27&"★"&E27&"★"&C27 -> 1793845★4★20260715 | B27: 1793845 | C27: 20260715 | D27: 資格喪失申請 | E27: 4 | F27: 19471120 | G27: ﾔﾏｼﾀ ｴｲｼﾞ | H27: 山下 榮次
A28: =B28&"★"&E28&"★"&C28 -> 1806106★1★20260707 | B28: 1806106 | C28: 20260707 | D28: 更新申請 | E28: 1 | F28: 19350105 | G28: ﾔﾏｼﾀ ﾖｳｺ | H28: 山下 陽子 | I28: 20260708 | J28: 20260804 | K28: 20260806
A29: =B29&"★"&E29&"★"&C29 -> 1839985★4★20260715 | B29: 1839985 | C29: 20260715 | D29: 資格喪失申請 | E29: 4 | F29: 19400831 | G29: ﾓﾝｼﾞ ﾏｻｵ | H29: 門司 正男
A30: =B30&"★"&E30&"★"&C30 -> 2334291★1★20260707 | B30: 2334291 | C30: 20260707 | D30: 新規申請 | E30: 1 | F30: 19630222 | G30: ﾂﾂﾐ ﾓﾄﾏｻ | H30: 堤 基昌 | I30: 20260714 | J30: 20260805 | K30: 20260812
A31: =B31&"★"&E31&"★"&C31 -> 2605163★1★20260707 | B31: 2605163 | C31: 20260707 | D31: 新規申請 | E31: 1 | F31: 19400902 | G31: ﾔｽﾅｶﾞ ﾖｼﾀﾀﾞ | H31: 安永 義忠 | I31: 20260724 | J31: 20260804 | K31: 20260806
A32: =B32&"★"&E32&"★"&C32 -> 100103330★1★20260707 | B32: 100103330 | C32: 20260707 | D32: 新規申請 | E32: 1 | F32: 19450530 | G32: ｻｻｷ ﾋﾃﾞｵ | H32: 佐々木 日出男 | I32: 20260722 | J32: 20260727 | K32: 20260730
A33: =B33&"★"&E33&"★"&C33 -> 100107654★2★20260707 | B33: 100107654 | C33: 20260707 | D33: 更新申請 | E33: 2 | F33: 19320220 | G33: ﾊｼﾂﾞﾒ ｽﾐｺ | H33: 橋爪 スミ子 | I33: 20260708 | J33: 20260729 | K33: 20260806
A34: =B34&"★"&E34&"★"&C34 -> 100248230★2★20260707 | B34: 100248230 | C34: 20260707 | D34: 更新申請 | E34: 2 | F34: 19370605 | G34: ｵｵｸﾎﾞ ﾚｲｺ | H34: 大久保 麗子 | I34: 20260715 | J34: 20260803 | K34: 20260812
A35: =B35&"★"&E35&"★"&C35 -> 100276464★1★20260707 | B35: 100276464 | C35: 20260707 | D35: 新規申請 | E35: 1 | F35: 19420216 | G35: ﾋﾗﾔﾏ ﾏｻｵ | H35: 平山 正夫 | I35: 20260717 | J35: 20260721 | K35: 20260728
A36: =B36&"★"&E36&"★"&C36 -> 200151812★2★20260707 | B36: 200151812 | C36: 20260707 | D36: 更新申請 | E36: 2 | F36: 19470112 | G36: ﾖｼﾀﾞ ﾕﾐｺ | H36: 吉田 由美子 | I36: 20260807 | J36: 20260727 | K36: 20260812
A37: =B37&"★"&E37&"★"&C37 -> 300019720★3★20260707 | B37: 300019720 | C37: 20260707 | D37: 変更申請 | E37: 3 | F37: 19450410 | G37: ﾌｼﾞﾀ ﾉﾌﾞｺ | H37: 藤田 信子 | I37: 20260807 | J37: 20260715 | K37: 20260812
A38: =B38&"★"&E38&"★"&C38 -> 300046663★2★20260707 | B38: 300046663 | C38: 20260707 | D38: 更新申請 | E38: 2 | F38: 19350815 | G38: ﾌｼﾞﾓﾄ ﾁｽﾞｺ | H38: 藤本 千鶴子 | I38: 20260717 | J38: 20260803 | K38: 20260806
A39: =B39&"★"&E39&"★"&C39 -> 300050040★1★20260707 | B39: 300050040 | C39: 20260707 | D39: 新規申請 | E39: 1 | F39: 19590823 | G39: ﾀﾅｶ ﾌﾐｵ | H39: 田中 文雄 | I39: 20260722 | J39: 20260708 | K39: 20260723
A40: =B40&"★"&E40&"★"&C40 -> 500070552★1★20260707 | B40: 500070552 | C40: 20260707 | D40: 新規申請 | E40: 1 | F40: 19410523 | G40: ｵｵﾂｶ ｲｻｵ | H40: 大塚 勲 | I40: 20260721 | J40: 20260728 | K40: 20260730
A41: =B41&"★"&E41&"★"&C41 -> 500353040★4★20260715 | B41: 500353040 | C41: 20260715 | D41: 資格喪失申請 | E41: 4 | F41: 19500505 | G41: ﾂﾎﾞﾀ ｿﾉｺ | H41: 坪田 園子
A42: =B42&"★"&E42&"★"&C42 -> 500445998★1★20260707 | B42: 500445998 | C42: 20260707 | D42: 新規申請 | E42: 1 | F42: 19381108 | G42: ｱｼﾀﾞ ｻﾀﾞｺ | H42: 芦田 さだ子 | I42: 20260714 | J42: 20260717 | K42: 20260723
A43: =B43&"★"&E43&"★"&C43 -> 1031244★2★20260708 | B43: 1031244 | C43: 20260708 | D43: 更新申請 | E43: 2 | F43: 19431028 | G43: ﾜﾀﾙ ﾋﾃﾞｺ | H43: 渡 英子 | I43: 20260813 | J43: 20260724 | K43: 20260818
A44: =B44&"★"&E44&"★"&C44 -> 1080008★1★20260708 | B44: 1080008 | C44: 20260708 | D44: 新規申請 | E44: 1 | F44: 19420120 | G44: ﾏﾂｻﾞｷ ﾔｽﾉﾘ | H44: 松崎 安典 | I44: 20260722 | J44: 20260723 | K44: 20260730
A45: =B45&"★"&E45&"★"&C45 -> 1083473★1★20260708 | B45: 1083473 | C45: 20260708 | D45: 新規申請 | E45: 1 | F45: 19401210 | G45: ｼﾊﾞﾀ ﾖｼﾛｳ | H45: 柴田 佳郎 | I45: 20260728 | J45: 20260721 | K45: 20260730
A46: =B46&"★"&E46&"★"&C46 -> 1309099★1★20260708 | B46: 1309099 | C46: 20260708 | D46: 更新申請 | E46: 1 | F46: 19360408 | G46: ｸﾘﾀ ﾋﾛﾐ | H46: 栗田 仁美 | I46: 20260728 | J46: 20260805 | K46: 20260818
...
